BEGIN:VCALENDAR
VERSION:2.0
PRODID:-//Writers Room of Georgia - ECPv6.6.4//NONSGML v1.0//EN
CALSCALE:GREGORIAN
METHOD:PUBLISH
X-ORIGINAL-URL:https://writersroomga.org
X-WR-CALDESC:Events for Writers Room of Georgia
REFRESH-INTERVAL;VALUE=DURATION:PT1H
X-Robots-Tag:noindex
X-PUBLISHED-TTL:PT1H
BEGIN:VTIMEZONE
TZID:America/New_York
BEGIN:DAYLIGHT
TZOFFSETFROM:-0500
TZOFFSETTO:-0400
TZNAME:EDT
DTSTART:20250309T070000
END:DAYLIGHT
BEGIN:STANDARD
TZOFFSETFROM:-0400
TZOFFSETTO:-0500
TZNAME:EST
DTSTART:20251102T060000
END:STANDARD
END:VTIMEZONE
BEGIN:VEVENT
DTSTART;TZID=America/New_York:20251029T200000
DTEND;TZID=America/New_York:20251029T210000
DTSTAMP:20260413T135438
CREATED:20251028T144001Z
LAST-MODIFIED:20251028T144001Z
UID:1807-1761768000-1761771600@writersroomga.org
SUMMARY:Trilith Institute Emerging Creative Residency Informational
DESCRIPTION:Join us on Zoom this Wednesday 10/29 at 8:00pm EST to learn more about Trilith Institute’s Emerging Creative Residency. The Trilith team will be in attendance to share detailed information about the program and answer all your questions. See you there! \nDate: Wednesday\, October 29\, 2025\nTime: 8:00 PM to 9:00 PM \nJoin Zoom Meeting\nhttps://us06web.zoom.us/j/86039807837?pwd=Di0iEQnsa66XFZPkaLo9bZeaydfQu1.1
URL:https://writersroomga.org/event/trilith-institute-emerging-creative-residency-informational/
ATTACH;FMTTYPE=image/jpeg:https://writersroomga.org/wp-content/uploads/2025/10/ECR-Informational-Flyer.jpg
END:VEVENT
END:VCALENDAR