BEGIN:VCALENDAR
VERSION:2.0
PRODID:-//Writers Room of Georgia - ECPv6.6.4//NONSGML v1.0//EN
CALSCALE:GREGORIAN
METHOD:PUBLISH
X-WR-CALNAME:Writers Room of Georgia
X-ORIGINAL-URL:https://writersroomga.org
X-WR-CALDESC:Events for Writers Room of Georgia
REFRESH-INTERVAL;VALUE=DURATION:PT1H
X-Robots-Tag:noindex
X-PUBLISHED-TTL:PT1H
BEGIN:VTIMEZONE
TZID:America/New_York
BEGIN:DAYLIGHT
TZOFFSETFROM:-0500
TZOFFSETTO:-0400
TZNAME:EDT
DTSTART:20250309T070000
END:DAYLIGHT
BEGIN:STANDARD
TZOFFSETFROM:-0400
TZOFFSETTO:-0500
TZNAME:EST
DTSTART:20251102T060000
END:STANDARD
END:VTIMEZONE
BEGIN:VEVENT
DTSTART;TZID=America/New_York:20250826T190000
DTEND;TZID=America/New_York:20250826T220000
DTSTAMP:20260419T223527
CREATED:20250805T182524Z
LAST-MODIFIED:20250825T211359Z
UID:1715-1756234800-1756245600@writersroomga.org
SUMMARY:Writers Room of Georgia "Creative Canvas"
DESCRIPTION:Join The Writers Room of Georgia\, partnered with the Morehouse College Human Rights Film Festival for an interactive experience where guests will learn from professional brand strategists how to build their branding package\, strengthen networking skills\, utilize social media\, and create a powerhouse brand strategy. During the event\, you can expect exclusive creative insights from guest speakers Amir Windom (Grammy Award Winning Entertainment Executive) and Jasmine Gurley (Senior Director of Brand Marketing & Communications)\, that will guide you from crafting a brand vision to implementing it across all marketing and social channels\, ensuring content aligns with your identity. After\, please enjoy light refreshments\, headshot opportunities\, resume feedback\, a screenwriting software giveaway and more. Get ready to take your brand to new heights! \n  \nHosted by the Morehouse Human Rights College Human Rights Film Festival \nEvent Location: Morehouse College Bank of America Auditorium (830 Westview Dr SW\, Atlanta\, GA 30314) \n  \nGuest Speakers: \n \n\nEvent Highlights: \n\nHeadshot opportunities\nLive resume feedback\nLight refreshments\nScreenwriting software giveaway\nWRG Merch table\n\n     \nSpaces are limited\, so be sure to grab your ticket! We look forward to seeing you there! \nDoors open at 6:30pm \nNote: All attendees must be 18 or older.
URL:https://writersroomga.org/event/writers-room-of-georgia-creative-canvas/
LOCATION:Morehouse College Bank of America Audiotorium\, 830 Westview Dr SW\, Atlanta\, GA\, 30314\, United States
CATEGORIES:Mixer,Workshop
END:VEVENT
BEGIN:VEVENT
DTSTART;TZID=America/New_York:20250515T190000
DTEND;TZID=America/New_York:20250515T220000
DTSTAMP:20260419T223527
CREATED:20250428T174503Z
LAST-MODIFIED:20250520T152746Z
UID:1530-1747335600-1747346400@writersroomga.org
SUMMARY:Writers Room of Georgia "Pitch Masters"
DESCRIPTION:  \nJoin us for an exhilarating evening as (5) Writers Room of Georgia members present their ideas to a panel made up of producers\, agents/managers\, and screenwriters in a constructive and friendly environment. This is the perfect opportunity for filmmakers to develop and fine tune their latest projects in a supportive atmosphere.  \nCome support your fellow Georgia writers & filmmakers\, meet industry professionals\, and expand your network at the first WRG Pitch event! \nPanelists: \n\nRick Estimond – President of FORMATION Talent Agency\nTara Ochs – Head of Development at Dagger Originals\nMichael Quigley – Co-Founder and CEO of QVH Media Inc.\n\nPitchers: \n\nBritTany Kennedy- Friend>ess\nChristian Jones- DASH!\nMilagro Cueva Diaz – Casket Bling\nKelley Cody-Grimm – Welcome to Roswell\nMattison Lewis – Penguinz\n\nEvent Highlights: \n\nFree drinks and light refreshments (I.D required)\nLimited edition WRG notebooks & Tote Bags for first 50 guests\nWRG Merch table\n\nSpaces are limited\, so be sure to grab your ticket! We look forward to seeing you there! \nDoors open at 6:30pm \nNote: All attendees must be 18 or older.
URL:https://writersroomga.org/event/writers-room-of-georgia-pitch-masters/
LOCATION:Shipyard at Trilith\, 125A Shepperton Way\, Fayetteville\, GA\, 30214\, United States
END:VEVENT
BEGIN:VEVENT
DTSTART;VALUE=DATE:20250507
DTEND;VALUE=DATE:20250508
DTSTAMP:20260419T223527
CREATED:20250417T183252Z
LAST-MODIFIED:20250520T152939Z
UID:1540-1746576000-1746662399@writersroomga.org
SUMMARY:Writers Room of Georgia "Pitch Masters" Submission
DESCRIPTION:  \nThe Writers Room of Georgia “Pitch Masters” event provides emerging screenwriters with a unique opportunity to present their creative ideas to a panel of industry professionals in a constructive and friendly environment. This is the perfect opportunity for filmmakers to develop and fine-tune their latest projects while receiving valuable live feedback. \nTo participate\, carefully read the details below and submit your work! \nGeneral Eligibility \n\nAll applicants must be 18+ years old\nMust be a member of the Writers Room of Georgia\nProjects must be a narrative feature or pilot\nProjects must not have been optioned\, have a shopping agreement\, already produced\, or sold\, or have any changes in status following submission.\nSubmissions must be made by the project’s writer and/or director.\n\n\nDeadline \nSubmission Deadline: 11:59 PM EDT on May 7\, 2025. \n  \nNotifications \nMay 7: Submission Deadline \nMay 9: Announcement \nMay 15: Event Date \n  \nThis pitch event is not a competition nor designed to be competitive. It is curated to expose emerging screenwriters & filmmakers to the art of pitching. \n  \nSUBMIT HERE
URL:https://writersroomga.org/event/writers-room-of-georgia-pitch-masters-submission/
ATTACH;FMTTYPE=image/jpeg:https://writersroomga.org/wp-content/uploads/2025/04/Copy-of-Save-the-Date-WRG-Instagram-Post-2.jpg
END:VEVENT
BEGIN:VEVENT
DTSTART;TZID=America/New_York:20250306T190000
DTEND;TZID=America/New_York:20250306T213000
DTSTAMP:20260419T223527
CREATED:20250213T213422Z
LAST-MODIFIED:20250305T195818Z
UID:1165-1741287600-1741296600@writersroomga.org
SUMMARY:2025 Writers Room of Georgia Mixer
DESCRIPTION:  \n \n  \nJoin us for an evening of storytelling and community as we engage in interactive exercises that will ultimately make us closer to one another and the stories we like to tell. This is your chance to expand your network\, meet industry professionals\, and celebrate the power of storytelling. Don’t miss out on this exciting opportunity! \nEvent Highlights: \n\nFireside chat session with Jeffrey Stepakoff and Seith Mann\n\nJeffrey Stepakoff\, is an accomplished Writer/Producer with credits on over two hundred episodes of popular television such as the Emmy-winning The Wonder Years\, Beauty & the Beast\, Have Faith\, and the break-out hit Dawson’s Creek.\nSeith Mann\, is a powerhouse Writer/Director with credits on hit television shows such as The Wire\, Grey’s Anatomy\, The Walking Dead\, Dexter\, and Raising Dion.\n\n\nFree drinks & refreshments (I.D required)\nLimited edition WRG notebooks for first 50 guests!\n\nSpaces are limited\, so be sure to grab your ticket! We look forward to seeing you there! \n  \nNote: All attendees must be 18 or older. \n 
URL:https://writersroomga.org/event/2025-writers-room-of-georgia-mixer/
LOCATION:Shipyard at Trilith\, 125A Shepperton Way\, Fayetteville\, GA\, 30214\, United States
CATEGORIES:Mixer
END:VEVENT
END:VCALENDAR