BEGIN:VCALENDAR
VERSION:2.0
PRODID:-//Writers Room of Georgia - ECPv6.6.4//NONSGML v1.0//EN
CALSCALE:GREGORIAN
METHOD:PUBLISH
X-WR-CALNAME:Writers Room of Georgia
X-ORIGINAL-URL:https://writersroomga.org
X-WR-CALDESC:Events for Writers Room of Georgia
REFRESH-INTERVAL;VALUE=DURATION:PT1H
X-Robots-Tag:noindex
X-PUBLISHED-TTL:PT1H
BEGIN:VTIMEZONE
TZID:America/New_York
BEGIN:DAYLIGHT
TZOFFSETFROM:-0500
TZOFFSETTO:-0400
TZNAME:EDT
DTSTART:20250309T070000
END:DAYLIGHT
BEGIN:STANDARD
TZOFFSETFROM:-0400
TZOFFSETTO:-0500
TZNAME:EST
DTSTART:20251102T060000
END:STANDARD
END:VTIMEZONE
BEGIN:VEVENT
DTSTART;VALUE=DATE:20250903
DTEND;VALUE=DATE:20251001
DTSTAMP:20260413T153602
CREATED:20250903T183241Z
LAST-MODIFIED:20250903T183431Z
UID:1788-1756857600-1759276799@writersroomga.org
SUMMARY:WRG Partnership with WriterDuet!
DESCRIPTION:We are pleased to announce a new partnership with the professional\, cloud-based screenwriting software\, WriterDuet. For THE MONTH OF SEPTEMBER\, Writers Room of Georgia will offer a free one-year WriterDuet license to the first 50 people who sign up for our premium Change-Maker membership. Head to the membership take and sign-up for this wonderful opportunity today. Happy writing! \nWriterDuet is designed for real-time collaboration\, automatic industry-standard formatting\, and advanced version control for screenplays\, comics\, stage plays\, podcasts\, and more. It offers features like automatic saving\, a Time Machine for reviewing past versions\, tools for outlining and story mapping\, and the ability to import and export various script file types. \nLearn more about the software here
URL:https://writersroomga.org/event/wrg-partnership-with-writerduet/
ATTACH;FMTTYPE=image/jpeg:https://writersroomga.org/wp-content/uploads/2025/09/Cream-Red-Minimalist-We-Are-Closed-Announcement.jpg
END:VEVENT
END:VCALENDAR